BEGIN:VCALENDAR
VERSION:2.0
PRODID:-//Colusa Groundwater Authority (CGA) - ECPv6.15.20//NONSGML v1.0//EN
CALSCALE:GREGORIAN
METHOD:PUBLISH
X-WR-CALNAME:Colusa Groundwater Authority (CGA)
X-ORIGINAL-URL:https://colusagroundwater.org
X-WR-CALDESC:Events for Colusa Groundwater Authority (CGA)
REFRESH-INTERVAL;VALUE=DURATION:PT1H
X-Robots-Tag:noindex
X-PUBLISHED-TTL:PT1H
BEGIN:VTIMEZONE
TZID:UTC
BEGIN:STANDARD
TZOFFSETFROM:+0000
TZOFFSETTO:+0000
TZNAME:UTC
DTSTART:20190101T000000
END:STANDARD
END:VTIMEZONE
BEGIN:VEVENT
DTSTART;TZID=UTC:20210709T130000
DTEND;TZID=UTC:20210709T150000
DTSTAMP:20260423T123128
CREATED:20201202T024754Z
LAST-MODIFIED:20201202T024754Z
UID:2265-1625835600-1625842800@colusagroundwater.org
SUMMARY:CGA/GGA Joint TAC Meeting
DESCRIPTION:
URL:https://colusagroundwater.org/event/cga-gga-joint-tac-meeting-12/
CATEGORIES:CGA Meetings
END:VEVENT
BEGIN:VEVENT
DTSTART;TZID=UTC:20210622T130000
DTEND;TZID=UTC:20210622T150000
DTSTAMP:20260423T123128
CREATED:20201202T022521Z
LAST-MODIFIED:20201202T022521Z
UID:2234-1624366800-1624374000@colusagroundwater.org
SUMMARY:CGA Board Meeting
DESCRIPTION:
URL:https://colusagroundwater.org/event/cga-board-meeting-13/
CATEGORIES:CGA Meetings
END:VEVENT
BEGIN:VEVENT
DTSTART;TZID=UTC:20210611T130000
DTEND;TZID=UTC:20210611T150000
DTSTAMP:20260423T123128
CREATED:20201202T024534Z
LAST-MODIFIED:20201202T024534Z
UID:2261-1623416400-1623423600@colusagroundwater.org
SUMMARY:CGA/GGA Joint TAC Meeting
DESCRIPTION:
URL:https://colusagroundwater.org/event/cga-gga-joint-tac-meeting-10/
CATEGORIES:CGA Meetings
END:VEVENT
BEGIN:VEVENT
DTSTART;TZID=UTC:20210525T130000
DTEND;TZID=UTC:20210525T150000
DTSTAMP:20260423T123128
CREATED:20201202T022333Z
LAST-MODIFIED:20201202T022333Z
UID:2232-1621947600-1621954800@colusagroundwater.org
SUMMARY:CGA Board Meeting
DESCRIPTION:
URL:https://colusagroundwater.org/event/cga-board-meeting-12/
CATEGORIES:CGA Meetings
END:VEVENT
BEGIN:VEVENT
DTSTART;TZID=UTC:20210514T130000
DTEND;TZID=UTC:20210514T150000
DTSTAMP:20260423T123128
CREATED:20201202T024446Z
LAST-MODIFIED:20201202T024446Z
UID:2259-1620997200-1621004400@colusagroundwater.org
SUMMARY:CGA/GGA Joint TAC Meeting
DESCRIPTION:
URL:https://colusagroundwater.org/event/cga-gga-joint-tac-meeting-9/
CATEGORIES:CGA Meetings
END:VEVENT
BEGIN:VEVENT
DTSTART;TZID=UTC:20210427T130000
DTEND;TZID=UTC:20210427T150000
DTSTAMP:20260423T123128
CREATED:20201202T022243Z
LAST-MODIFIED:20201202T022243Z
UID:2230-1619528400-1619535600@colusagroundwater.org
SUMMARY:CGA Board Meeting
DESCRIPTION:
URL:https://colusagroundwater.org/event/cga-board-meeting-11/
CATEGORIES:CGA Meetings
END:VEVENT
BEGIN:VEVENT
DTSTART;TZID=UTC:20210422T180000
DTEND;TZID=UTC:20210422T200000
DTSTAMP:20260423T123128
CREATED:20210413T221134Z
LAST-MODIFIED:20210413T221312Z
UID:2668-1619114400-1619121600@colusagroundwater.org
SUMMARY:CGA/GGA Joint Board Meeting
DESCRIPTION:
URL:https://colusagroundwater.org/event/cga-tac-meeting/
LOCATION:Remote via Zoom\, CA\, United States
CATEGORIES:CGA Meetings
END:VEVENT
BEGIN:VEVENT
DTSTART;TZID=UTC:20210416T150000
DTEND;TZID=UTC:20210416T170000
DTSTAMP:20260423T123128
CREATED:20210413T221635Z
LAST-MODIFIED:20210413T221635Z
UID:2672-1618585200-1618592400@colusagroundwater.org
SUMMARY:CGA Technical Advisory Committee Meeting
DESCRIPTION:
URL:https://colusagroundwater.org/event/cga-technical-advisory-committee-meeting-2/
LOCATION:Remote via Zoom\, CA\, United States
END:VEVENT
BEGIN:VEVENT
DTSTART;TZID=UTC:20210409T130000
DTEND;TZID=UTC:20210409T150000
DTSTAMP:20260423T123128
CREATED:20201202T024400Z
LAST-MODIFIED:20201202T024400Z
UID:2257-1617973200-1617980400@colusagroundwater.org
SUMMARY:CGA/GGA Joint TAC Meeting
DESCRIPTION:
URL:https://colusagroundwater.org/event/cga-gga-joint-tac-meeting-8/
CATEGORIES:CGA Meetings
END:VEVENT
BEGIN:VEVENT
DTSTART;TZID=UTC:20210323T130000
DTEND;TZID=UTC:20210323T150000
DTSTAMP:20260423T123128
CREATED:20201202T022141Z
LAST-MODIFIED:20201202T022141Z
UID:2228-1616504400-1616511600@colusagroundwater.org
SUMMARY:CGA Board Meeting
DESCRIPTION:
URL:https://colusagroundwater.org/event/cga-board-meeting-10/
CATEGORIES:CGA Meetings
END:VEVENT
BEGIN:VEVENT
DTSTART;TZID=UTC:20210223T130000
DTEND;TZID=UTC:20210223T150000
DTSTAMP:20260423T123128
CREATED:20201202T022016Z
LAST-MODIFIED:20201202T022016Z
UID:2226-1614085200-1614092400@colusagroundwater.org
SUMMARY:CGA Board Meeting
DESCRIPTION:
URL:https://colusagroundwater.org/event/cga-board-meeting-9/
CATEGORIES:CGA Meetings
END:VEVENT
BEGIN:VEVENT
DTSTART;TZID=UTC:20210217T130000
DTEND;TZID=UTC:20210217T160000
DTSTAMP:20260423T123128
CREATED:20210130T012845Z
LAST-MODIFIED:20210130T012845Z
UID:2496-1613566800-1613577600@colusagroundwater.org
SUMMARY:CGA Board Special Meeting
DESCRIPTION:
URL:https://colusagroundwater.org/event/cga-board-special-meeting-3/
LOCATION:Remote via Zoom\, CA\, United States
END:VEVENT
BEGIN:VEVENT
DTSTART;TZID=UTC:20210126T130000
DTEND;TZID=UTC:20210126T150000
DTSTAMP:20260423T123128
CREATED:20201202T021629Z
LAST-MODIFIED:20201202T021629Z
UID:2224-1611666000-1611673200@colusagroundwater.org
SUMMARY:CGA Board Meeting
DESCRIPTION:
URL:https://colusagroundwater.org/event/cga-board-meeting-8/
CATEGORIES:CGA Meetings
END:VEVENT
BEGIN:VEVENT
DTSTART;TZID=UTC:20210125T160000
DTEND;TZID=UTC:20210125T173000
DTSTAMP:20260423T123128
CREATED:20210122T044657Z
LAST-MODIFIED:20210122T044657Z
UID:2470-1611590400-1611595800@colusagroundwater.org
SUMMARY:Well Monitoring Pilot Program Workshop
DESCRIPTION:
URL:https://colusagroundwater.org/event/well-monitoring-pilot-program-workshop/
LOCATION:Remote via Zoom\, CA\, United States
CATEGORIES:Grower Workshop
END:VEVENT
BEGIN:VEVENT
DTSTART;TZID=UTC:20210108T130000
DTEND;TZID=UTC:20210108T150000
DTSTAMP:20260423T123128
CREATED:20201202T023834Z
LAST-MODIFIED:20201202T023834Z
UID:2248-1610110800-1610118000@colusagroundwater.org
SUMMARY:CGA/GGA Joint TAC Meeting
DESCRIPTION:
URL:https://colusagroundwater.org/event/cga-gga-joint-tac-meeting-4/
CATEGORIES:CGA Meetings
END:VEVENT
BEGIN:VEVENT
DTSTART;TZID=UTC:20201222T130000
DTEND;TZID=UTC:20201222T150000
DTSTAMP:20260423T123128
CREATED:20201202T020816Z
LAST-MODIFIED:20201202T021907Z
UID:2218-1608642000-1608649200@colusagroundwater.org
SUMMARY:CGA Board Meeting
DESCRIPTION:
URL:https://colusagroundwater.org/event/cga-board-meeting-7/
LOCATION:Remote via Zoom\, CA\, United States
CATEGORIES:CGA Meetings
ORGANIZER;CN="Colusa Groundwater Authority":MAILTO:mfahey@countyofcolusa.com
END:VEVENT
BEGIN:VEVENT
DTSTART;TZID=UTC:20201211T130000
DTEND;TZID=UTC:20201211T150000
DTSTAMP:20260423T123128
CREATED:20201202T023949Z
LAST-MODIFIED:20201202T023949Z
UID:2251-1607691600-1607698800@colusagroundwater.org
SUMMARY:CGA/GGA Joint TAC Meeting
DESCRIPTION:
URL:https://colusagroundwater.org/event/cga-gga-joint-tac-meeting-5/
CATEGORIES:CGA Meetings
END:VEVENT
BEGIN:VEVENT
DTSTART;TZID=UTC:20201210T130000
DTEND;TZID=UTC:20201210T160000
DTSTAMP:20260423T123128
CREATED:20201203T000620Z
LAST-MODIFIED:20201212T004535Z
UID:2301-1607605200-1607616000@colusagroundwater.org
SUMMARY:SGMA Series Public Meeting
DESCRIPTION:A recording of this public meeting is available on the Colusa Subbasin SGMA facebook page. \n2020_12 Public Meeting Press Release \nPublic Meeting Flyer (English) \nPublic Meeting Flyer (Spanish)
URL:https://colusagroundwater.org/event/sgma-series-public-meeting-4/
LOCATION:Remote via Zoom\, CA\, United States
CATEGORIES:Public Outreach Workshops
END:VEVENT
BEGIN:VEVENT
DTSTART;TZID=UTC:20201209T173000
DTEND;TZID=UTC:20201209T203000
DTSTAMP:20260423T123128
CREATED:20201203T000435Z
LAST-MODIFIED:20201212T004606Z
UID:2299-1607535000-1607545800@colusagroundwater.org
SUMMARY:SGMA Series Public Meeting
DESCRIPTION:A recording of this public meeting is available on the Colusa Subbasin SGMA facebook page. \n2020_12 Public Meeting Press Release \nPublic Meeting Flyer (English) \nPublic Meeting Flyer (Spanish)
URL:https://colusagroundwater.org/event/sgma-series-public-meeting-3/
LOCATION:Remote via Zoom\, CA\, United States
CATEGORIES:Public Outreach Workshops
END:VEVENT
BEGIN:VEVENT
DTSTART;TZID=UTC:20201124T130000
DTEND;TZID=UTC:20201124T150000
DTSTAMP:20260423T123128
CREATED:20191211T011540Z
LAST-MODIFIED:20200615T220844Z
UID:1712-1606222800-1606230000@colusagroundwater.org
SUMMARY:CGA Board Meeting
DESCRIPTION:
URL:https://colusagroundwater.org/event/cga-board-meeting-6/
LOCATION:100 Sunrise Blvd.\, Suite A\, Colusa\, CA 95932\, CA\, 95932\, United States
CATEGORIES:CGA Meetings
ORGANIZER;CN="Colusa Groundwater Authority":MAILTO:mfahey@countyofcolusa.com
END:VEVENT
BEGIN:VEVENT
DTSTART;TZID=UTC:20201022T130000
DTEND;TZID=UTC:20201022T150000
DTSTAMP:20260423T123128
CREATED:20200624T004221Z
LAST-MODIFIED:20200624T004221Z
UID:2010-1603371600-1603378800@colusagroundwater.org
SUMMARY:Butte Subbasin Advisory Board
DESCRIPTION:
URL:https://colusagroundwater.org/event/butte-subbasin-advisory-board-2/
END:VEVENT
BEGIN:VEVENT
DTSTART;TZID=UTC:20201016T130000
DTEND;TZID=UTC:20201016T150000
DTSTAMP:20260423T123128
CREATED:20201009T010408Z
LAST-MODIFIED:20201009T010427Z
UID:2139-1602853200-1602860400@colusagroundwater.org
SUMMARY:CGA-GGA Joint TAC Meeting
DESCRIPTION:
URL:https://colusagroundwater.org/event/cga-gga-joint-tac-meeting-3/
LOCATION:Remote via Zoom\, CA\, United States
END:VEVENT
BEGIN:VEVENT
DTSTART;TZID=UTC:20200922T130000
DTEND;TZID=UTC:20200922T150000
DTSTAMP:20260423T123128
CREATED:20191211T011439Z
LAST-MODIFIED:20191211T011439Z
UID:1710-1600779600-1600786800@colusagroundwater.org
SUMMARY:CGA Board Meeting
DESCRIPTION:
URL:https://colusagroundwater.org/event/cga-board-meeting-5/
LOCATION:100 Sunrise Blvd.\, Suite A\, Colusa\, CA 95932\, CA\, 95932\, United States
CATEGORIES:CGA Meetings
ORGANIZER;CN="Colusa Groundwater Authority":MAILTO:mfahey@countyofcolusa.com
END:VEVENT
BEGIN:VEVENT
DTSTART;TZID=UTC:20200814T130000
DTEND;TZID=UTC:20200814T160000
DTSTAMP:20260423T123128
CREATED:20200724T232333Z
LAST-MODIFIED:20200724T232333Z
UID:2060-1597410000-1597420800@colusagroundwater.org
SUMMARY:CGA/GGA Joint TAC Meeting
DESCRIPTION:
URL:https://colusagroundwater.org/event/cga-gga-joint-tac-meeting-2/
LOCATION:Remote via Zoom\, CA\, United States
CATEGORIES:CGA Meetings
END:VEVENT
BEGIN:VEVENT
DTSTART;TZID=UTC:20200728T130000
DTEND;TZID=UTC:20200728T150000
DTSTAMP:20260423T123128
CREATED:20191211T011330Z
LAST-MODIFIED:20191211T011330Z
UID:1708-1595941200-1595948400@colusagroundwater.org
SUMMARY:CGA Board Meeting
DESCRIPTION:
URL:https://colusagroundwater.org/event/cga-board-meeting-4/
LOCATION:100 Sunrise Blvd.\, Suite A\, Colusa\, CA 95932\, CA\, 95932\, United States
CATEGORIES:CGA Meetings
ORGANIZER;CN="Colusa Groundwater Authority":MAILTO:mfahey@countyofcolusa.com
END:VEVENT
BEGIN:VEVENT
DTSTART;TZID=UTC:20200713T130000
DTEND;TZID=UTC:20200713T150000
DTSTAMP:20260423T123128
CREATED:20200630T001049Z
LAST-MODIFIED:20200630T001049Z
UID:2014-1594645200-1594652400@colusagroundwater.org
SUMMARY:CGA Executive Committee Meeting July 13\, 2020
DESCRIPTION:
URL:https://colusagroundwater.org/event/cga-executive-committee-meeting-july-13-2020/
END:VEVENT
BEGIN:VEVENT
DTSTART;TZID=UTC:20200625T130000
DTEND;TZID=UTC:20200625T150000
DTSTAMP:20260423T123128
CREATED:20200624T004031Z
LAST-MODIFIED:20200624T004031Z
UID:2006-1593090000-1593097200@colusagroundwater.org
SUMMARY:Butte Subbasin Advisory Board Meeting
DESCRIPTION:
URL:https://colusagroundwater.org/event/butte-subbasin-advisory-board-meeting-2/
END:VEVENT
BEGIN:VEVENT
DTSTART;TZID=UTC:20200622T130000
DTEND;TZID=UTC:20200622T160000
DTSTAMP:20260423T123128
CREATED:20200615T220708Z
LAST-MODIFIED:20200615T220708Z
UID:1966-1592830800-1592841600@colusagroundwater.org
SUMMARY:Joint CGA-GGA Technical Advisory Committee Meeting
DESCRIPTION:
URL:https://colusagroundwater.org/event/joint-cga-gga-technical-advisory-committee-meeting/
LOCATION:Remote via Zoom\, CA\, United States
END:VEVENT
BEGIN:VEVENT
DTSTART;TZID=UTC:20200615T130000
DTEND;TZID=UTC:20200615T150000
DTSTAMP:20260423T123128
CREATED:20200608T222509Z
LAST-MODIFIED:20200615T221057Z
UID:1953-1592226000-1592233200@colusagroundwater.org
SUMMARY:CGA Executive Committee Meeting
DESCRIPTION:
URL:https://colusagroundwater.org/event/cga-executive-committee-meeting-3/
LOCATION:100 Sunrise Blvd.\, Suite A\, Colusa\, CA 95932\, CA\, 95932\, United States
CATEGORIES:CGA Meetings
END:VEVENT
BEGIN:VEVENT
DTSTART;TZID=UTC:20200526T130000
DTEND;TZID=UTC:20200526T150000
DTSTAMP:20260423T123128
CREATED:20191211T011210Z
LAST-MODIFIED:20191211T011210Z
UID:1706-1590498000-1590505200@colusagroundwater.org
SUMMARY:CGA Board Meeting
DESCRIPTION:
URL:https://colusagroundwater.org/event/cga-board-meeting-3/
LOCATION:100 Sunrise Blvd.\, Suite A\, Colusa\, CA 95932\, CA\, 95932\, United States
CATEGORIES:CGA Meetings
ORGANIZER;CN="Colusa Groundwater Authority":MAILTO:mfahey@countyofcolusa.com
END:VEVENT
END:VCALENDAR