BEGIN:VCALENDAR
VERSION:2.0
PRODID:-//Colusa Groundwater Authority (CGA) - ECPv6.15.20//NONSGML v1.0//EN
CALSCALE:GREGORIAN
METHOD:PUBLISH
X-WR-CALNAME:Colusa Groundwater Authority (CGA)
X-ORIGINAL-URL:https://colusagroundwater.org
X-WR-CALDESC:Events for Colusa Groundwater Authority (CGA)
REFRESH-INTERVAL;VALUE=DURATION:PT1H
X-Robots-Tag:noindex
X-PUBLISHED-TTL:PT1H
BEGIN:VTIMEZONE
TZID:UTC
BEGIN:STANDARD
TZOFFSETFROM:+0000
TZOFFSETTO:+0000
TZNAME:UTC
DTSTART:20170101T000000
END:STANDARD
END:VTIMEZONE
BEGIN:VEVENT
DTSTART;VALUE=DATE:20180302
DTEND;VALUE=DATE:20180303
DTSTAMP:20260424T034401
CREATED:20180216T064820Z
LAST-MODIFIED:20180216T064820Z
UID:157-1519948800-1520035199@colusagroundwater.org
SUMMARY:NCWA Annual Meeting
DESCRIPTION:
URL:https://colusagroundwater.org/event/ncwa-annual-meeting/
LOCATION:Sierra Nevada Brewery\, 100 Sunrise Blvd\, Chico\, CA
END:VEVENT
BEGIN:VEVENT
DTSTART;TZID=UTC:20180221T090000
DTEND;TZID=UTC:20180221T103000
DTSTAMP:20260424T034401
CREATED:20180216T064515Z
LAST-MODIFIED:20180216T064515Z
UID:154-1519203600-1519209000@colusagroundwater.org
SUMMARY:NSV IRWMP Technical Advisory Committee Meeting
DESCRIPTION:
URL:https://colusagroundwater.org/event/nsv-irwmp-technical-advisory-committee-meeting/
LOCATION:Willows City Hall\, 201 N. Lassen Street\, Willows\, CA\, 201 N. Lassen Street\, Willows\, CA
END:VEVENT
END:VCALENDAR