BEGIN:VCALENDAR
VERSION:2.0
PRODID:-//Colusa Groundwater Authority (CGA) - ECPv6.15.20//NONSGML v1.0//EN
CALSCALE:GREGORIAN
METHOD:PUBLISH
X-ORIGINAL-URL:https://colusagroundwater.org
X-WR-CALDESC:Events for Colusa Groundwater Authority (CGA)
REFRESH-INTERVAL;VALUE=DURATION:PT1H
X-Robots-Tag:noindex
X-PUBLISHED-TTL:PT1H
BEGIN:VTIMEZONE
TZID:UTC
BEGIN:STANDARD
TZOFFSETFROM:+0000
TZOFFSETTO:+0000
TZNAME:UTC
DTSTART:20180101T000000
END:STANDARD
END:VTIMEZONE
BEGIN:VEVENT
DTSTART;TZID=UTC:20211213T090000
DTEND;TZID=UTC:20211213T120000
DTSTAMP:20260423T123338
CREATED:20201202T023704Z
LAST-MODIFIED:20210825T231111Z
UID:2246-1639386000-1639396800@colusagroundwater.org
SUMMARY:CGA Board Meeting - GSP Adoption Public Hearing
DESCRIPTION:
URL:https://colusagroundwater.org/event/cga-board-meeting-19/
LOCATION:100 Sunrise Blvd.\, Suite A\, Colusa\, CA 95932\, CA\, 95932\, United States
CATEGORIES:CGA Meetings,GSP Adoption,Public Hearing
END:VEVENT
BEGIN:VEVENT
DTSTART;TZID=UTC:20190605T080000
DTEND;TZID=UTC:20190605T170000
DTSTAMP:20260423T123338
CREATED:20190411T234808Z
LAST-MODIFIED:20190411T234808Z
UID:1342-1559721600-1559754000@colusagroundwater.org
SUMMARY:Public Hearing on Adoption of Operations Fee
DESCRIPTION:
URL:https://colusagroundwater.org/event/public-hearing-on-adoption-of-operations-fee/
LOCATION:Colusa Industrial Properties Conference Room\, 100 Sunrise Blvd\, Colusa\, CA\, 95932
CATEGORIES:Public Hearing
END:VEVENT
END:VCALENDAR