BEGIN:VCALENDAR
VERSION:2.0
PRODID:-//Colusa Groundwater Authority (CGA) - ECPv6.15.20//NONSGML v1.0//EN
CALSCALE:GREGORIAN
METHOD:PUBLISH
X-WR-CALNAME:Colusa Groundwater Authority (CGA)
X-ORIGINAL-URL:https://colusagroundwater.org
X-WR-CALDESC:Events for Colusa Groundwater Authority (CGA)
REFRESH-INTERVAL;VALUE=DURATION:PT1H
X-Robots-Tag:noindex
X-PUBLISHED-TTL:PT1H
BEGIN:VTIMEZONE
TZID:UTC
BEGIN:STANDARD
TZOFFSETFROM:+0000
TZOFFSETTO:+0000
TZNAME:UTC
DTSTART:20170101T000000
END:STANDARD
END:VTIMEZONE
BEGIN:VEVENT
DTSTART;TZID=UTC:20190723T130000
DTEND;TZID=UTC:20190723T150000
DTSTAMP:20260423T201457
CREATED:20181221T004159Z
LAST-MODIFIED:20190410T014857Z
UID:1054-1563886800-1563894000@colusagroundwater.org
SUMMARY:Colusa Groundwater Authority Board Meeting
DESCRIPTION:
URL:https://colusagroundwater.org/event/colusa-groundwater-authority-board-meeting-5/
LOCATION:CA
CATEGORIES:CGA Meetings
END:VEVENT
BEGIN:VEVENT
DTSTART;TZID=UTC:20190710T130000
DTEND;TZID=UTC:20190710T150000
DTSTAMP:20260423T201457
CREATED:20190626T230008Z
LAST-MODIFIED:20190626T230008Z
UID:1452-1562763600-1562770800@colusagroundwater.org
SUMMARY:CGA Executive Committee Meeting
DESCRIPTION:
URL:https://colusagroundwater.org/event/cga-executive-committee-meeting/
LOCATION:Colusa County Board of Supervisors Conference Room\, 547 Market Street\, Colusa\, CA\, 95932\, United States
CATEGORIES:CGA Meetings
END:VEVENT
BEGIN:VEVENT
DTSTART;TZID=UTC:20190528T130000
DTEND;TZID=UTC:20190528T150000
DTSTAMP:20260423T201457
CREATED:20181221T004108Z
LAST-MODIFIED:20181221T004108Z
UID:1052-1559048400-1559055600@colusagroundwater.org
SUMMARY:Colusa Groundwater Authority Board Meeting
DESCRIPTION:
URL:https://colusagroundwater.org/event/colusa-groundwater-authority-board-meeting-4/
LOCATION:Colusa Industrial Properties Conference Room\, 100 Sunrise Blvd\, Colusa\, CA\, 95932
CATEGORIES:CGA Meetings
END:VEVENT
BEGIN:VEVENT
DTSTART;TZID=UTC:20190412T130000
DTEND;TZID=UTC:20190412T150000
DTSTAMP:20260423T201457
CREATED:20190410T014744Z
LAST-MODIFIED:20190410T014927Z
UID:1318-1555074000-1555081200@colusagroundwater.org
SUMMARY:Colusa GW Authority and Glenn Groundwater Authority TAC Meeting
DESCRIPTION:A meeting of the Colusa Groundwater Authority and Glenn Groundwater Authority Technical Advisory Committees will be held to discuss various aspects of GSP development.
URL:https://colusagroundwater.org/event/colusa-gw-authority-and-glenn-groundwater-authority-tac-meeting/
LOCATION:Colusa County Farm Bureau\, 520 Market Street\, Colusa\, CA\, 95932\, United States
CATEGORIES:CGA Meetings
ORGANIZER;CN="Colusa Groundwater Authority":MAILTO:mfahey@countyofcolusa.com
END:VEVENT
BEGIN:VEVENT
DTSTART;TZID=UTC:20190326T130000
DTEND;TZID=UTC:20190326T150000
DTSTAMP:20260423T201457
CREATED:20181221T004003Z
LAST-MODIFIED:20181221T004003Z
UID:1050-1553605200-1553612400@colusagroundwater.org
SUMMARY:Colusa Groundwater Authority Board Meeting
DESCRIPTION:
URL:https://colusagroundwater.org/event/colusa-groundwater-authority-board-meeting-3/
LOCATION:Colusa Industrial Properties Conference Room\, 100 Sunrise Blvd\, Colusa\, CA\, 95932
CATEGORIES:CGA Meetings
END:VEVENT
BEGIN:VEVENT
DTSTART;TZID=UTC:20190228T090000
DTEND;TZID=UTC:20190228T110000
DTSTAMP:20260423T201457
CREATED:20190226T031828Z
LAST-MODIFIED:20190226T031828Z
UID:1241-1551344400-1551351600@colusagroundwater.org
SUMMARY:Colusa Groundwater Authority Executive Committee Meeting
DESCRIPTION:
URL:https://colusagroundwater.org/event/colusa-groundwater-authority-executive-committee-meeting/
LOCATION:Colusa County Board of Supervisors Conference Room\, 547 Market Street\, Colusa\, CA\, 95932\, United States
CATEGORIES:CGA Meetings
END:VEVENT
BEGIN:VEVENT
DTSTART;TZID=UTC:20190115T130000
DTEND;TZID=UTC:20190115T150000
DTSTAMP:20260423T201457
CREATED:20181221T003816Z
LAST-MODIFIED:20181221T003816Z
UID:1047-1547557200-1547564400@colusagroundwater.org
SUMMARY:Colusa Groundwater Authority Board Meeting
DESCRIPTION:
URL:https://colusagroundwater.org/event/colusa-groundwater-authority-board-meeting-2/
LOCATION:Westside Water District\, 5005 Highway 20\, Williams\, CA\, 95987\, United States
CATEGORIES:CGA Meetings
END:VEVENT
BEGIN:VEVENT
DTSTART;TZID=UTC:20181120T130000
DTEND;TZID=UTC:20181120T150000
DTSTAMP:20260423T201457
CREATED:20181025T230319Z
LAST-MODIFIED:20181025T230319Z
UID:942-1542718800-1542726000@colusagroundwater.org
SUMMARY:Colusa Groundwater Authority Board Meeting
DESCRIPTION:
URL:https://colusagroundwater.org/event/colusa-groundwater-authority-board-meeting/
LOCATION:Colusa Industrial Properties Conference Room\, 100 Sunrise Blvd\, Colusa\, CA\, 95932
CATEGORIES:CGA Meetings
END:VEVENT
BEGIN:VEVENT
DTSTART;TZID=UTC:20181105T090000
DTEND;TZID=UTC:20181105T100000
DTSTAMP:20260423T201457
CREATED:20181025T230215Z
LAST-MODIFIED:20181025T230215Z
UID:938-1541408400-1541412000@colusagroundwater.org
SUMMARY:Long-term Funding Workgroup Meeting
DESCRIPTION:
URL:https://colusagroundwater.org/event/long-term-funding-workgroup-meeting-2/
LOCATION:Colusa County Board of Supervisors Conference Room\, 547 Market Street\, Colusa\, CA\, 95932\, United States
CATEGORIES:CGA Meetings
ORGANIZER;CN="Colusa Groundwater Authority":MAILTO:mfahey@countyofcolusa.com
END:VEVENT
BEGIN:VEVENT
DTSTART;TZID=UTC:20180925T130000
DTEND;TZID=UTC:20180925T150000
DTSTAMP:20260423T201457
CREATED:20180329T222826Z
LAST-MODIFIED:20180329T223008Z
UID:552-1537880400-1537887600@colusagroundwater.org
SUMMARY:September 25\, 2018 CGA Board Meeting
DESCRIPTION:
URL:https://colusagroundwater.org/event/september-25-2018-cga-board-meeting/
LOCATION:Colusa Industrial Properties Conference Room\, 100 Sunrise Blvd\, Colusa\, CA\, 95932
CATEGORIES:CGA Meetings
END:VEVENT
BEGIN:VEVENT
DTSTART;TZID=UTC:20180724T130000
DTEND;TZID=UTC:20180724T150000
DTSTAMP:20260423T201457
CREATED:20180329T222730Z
LAST-MODIFIED:20180329T222730Z
UID:550-1532437200-1532444400@colusagroundwater.org
SUMMARY:July 24\, 2018 CGA Board Meeting
DESCRIPTION:
URL:https://colusagroundwater.org/event/july-24-2018-cga-board-meeting/
LOCATION:Colusa Industrial Properties Conference Room\, 100 Sunrise Blvd\, Colusa\, CA\, 95932
CATEGORIES:CGA Meetings
END:VEVENT
BEGIN:VEVENT
DTSTART;TZID=UTC:20180705T130000
DTEND;TZID=UTC:20180705T140000
DTSTAMP:20260423T201457
CREATED:20180628T012350Z
LAST-MODIFIED:20180628T012350Z
UID:748-1530795600-1530799200@colusagroundwater.org
SUMMARY:July 5\, 2018 Funding Committee Meeting
DESCRIPTION:The CGA Funding Subcommittee will meet July 5\, 2018 at 1:00 p.m. More information can be found on the Meetings Page.
URL:https://colusagroundwater.org/event/july-5-2018-funding-committee-meeting/
LOCATION:CA
CATEGORIES:CGA Meetings
END:VEVENT
BEGIN:VEVENT
DTSTART;TZID=UTC:20180522T130000
DTEND;TZID=UTC:20180522T150000
DTSTAMP:20260423T201457
CREATED:20180329T222613Z
LAST-MODIFIED:20180329T222613Z
UID:548-1526994000-1527001200@colusagroundwater.org
SUMMARY:May 22\, 2018 CGA Board Meeting
DESCRIPTION:
URL:https://colusagroundwater.org/event/may-22-2018-cga-board-meeting/
LOCATION:Colusa Industrial Properties Conference Room\, 100 Sunrise Blvd\, Colusa\, CA\, 95932
CATEGORIES:CGA Meetings
END:VEVENT
BEGIN:VEVENT
DTSTART;TZID=UTC:20180522T110000
DTEND;TZID=UTC:20180522T130000
DTSTAMP:20260423T201457
CREATED:20180510T005139Z
LAST-MODIFIED:20180510T005243Z
UID:661-1526986800-1526994000@colusagroundwater.org
SUMMARY:May 22 CGA Long-term Funding Workgroup Meeting
DESCRIPTION:
URL:https://colusagroundwater.org/event/cga-long-term-funding-workgroup-meeting/
LOCATION:Colusa Industrial Properties Conference Room\, 100 Sunrise Blvd\, Colusa\, CA\, 95932
CATEGORIES:CGA Meetings
END:VEVENT
BEGIN:VEVENT
DTSTART;TZID=UTC:20180507T150000
DTEND;TZID=UTC:20180507T170000
DTSTAMP:20260423T201457
CREATED:20180502T041130Z
LAST-MODIFIED:20180502T041130Z
UID:636-1525705200-1525712400@colusagroundwater.org
SUMMARY:May 7 Long-Term Funding Workgroup Meeting
DESCRIPTION:
URL:https://colusagroundwater.org/event/may-7-long-term-funding-workgroup-meeting/
LOCATION:Colusa Industrial Properties Conference Room\, 100 Sunrise Blvd\, Colusa\, CA\, 95932
CATEGORIES:CGA Meetings
END:VEVENT
BEGIN:VEVENT
DTSTART;TZID=UTC:20180424T140000
DTEND;TZID=UTC:20180424T160000
DTSTAMP:20260423T201457
CREATED:20180329T222326Z
LAST-MODIFIED:20180329T222637Z
UID:546-1524578400-1524585600@colusagroundwater.org
SUMMARY:April 24\, 2018 CGA Board Meeting
DESCRIPTION:
URL:https://colusagroundwater.org/event/april-24-2018-cga-board-meeting/
LOCATION:Colusa Industrial Properties Conference Room\, 100 Sunrise Blvd\, Colusa\, CA\, 95932
CATEGORIES:CGA Meetings
END:VEVENT
BEGIN:VEVENT
DTSTART;TZID=UTC:20180416T090000
DTEND;TZID=UTC:20180416T110000
DTSTAMP:20260423T201457
CREATED:20180413T020902Z
LAST-MODIFIED:20180413T020902Z
UID:575-1523869200-1523876400@colusagroundwater.org
SUMMARY:Long-term Funding Workgroup Meeting
DESCRIPTION:
URL:https://colusagroundwater.org/event/long-term-funding-workgroup-meeting/
LOCATION:Colusa Industrial Properties Conference Room\, 100 Sunrise Blvd\, Colusa\, CA\, 95932
CATEGORIES:CGA Meetings
END:VEVENT
BEGIN:VEVENT
DTSTART;TZID=UTC:20180328T100000
DTEND;TZID=UTC:20180328T120000
DTSTAMP:20260423T201457
CREATED:20180302T021448Z
LAST-MODIFIED:20180302T021614Z
UID:497-1522231200-1522238400@colusagroundwater.org
SUMMARY:March 28\, 2018 CGA Board Special Meeting
DESCRIPTION:
URL:https://colusagroundwater.org/event/cga-board-special-meeting/
LOCATION:Colusa Industrial Properties Conference Room\, 100 Sunrise Blvd\, Colusa\, CA\, 95932
CATEGORIES:CGA Meetings
END:VEVENT
END:VCALENDAR